BEGIN:VCALENDAR
VERSION:2.0
PRODID:-//Biocafé Tellus - ECPv4.9.12//NONSGML v1.0//EN
CALSCALE:GREGORIAN
METHOD:PUBLISH
X-WR-CALNAME:Biocafé Tellus
X-ORIGINAL-URL:https://tellusbio.nu
X-WR-CALDESC:Händelser för Biocafé Tellus
BEGIN:VTIMEZONE
TZID:Europe/Stockholm
BEGIN:DAYLIGHT
TZOFFSETFROM:+0100
TZOFFSETTO:+0200
TZNAME:CEST
DTSTART:20230326T010000
END:DAYLIGHT
BEGIN:STANDARD
TZOFFSETFROM:+0200
TZOFFSETTO:+0100
TZNAME:CET
DTSTART:20231029T010000
END:STANDARD
END:VTIMEZONE
BEGIN:VEVENT
DTSTART;TZID=Europe/Stockholm:20230903T103000
DTEND;TZID=Europe/Stockholm:20230903T103000
DTSTAMP:20260424T194323
CREATED:20230720T211045Z
LAST-MODIFIED:20230824T232931Z
UID:140877-1693737000-1693737000@tellusbio.nu
SUMMARY:Frukostbio: Barbie
DESCRIPTION:Efter några fullsatta Barbievisningar finns här möjlighet att se filmen lite tidigare på dagen. Kl 10.30 går ridån isär och innan dess serveras frukost i caféet från kl 9.45 för de som förköper den kombinerade film+frukost-biljetten. Dessa biljetter är begränsade till 25 i antal för att alla ska få plats i caféet. Resterande 75 biljetter går att köpa som vanliga biobiljetter och då är man välkommen kl 10.15 då vi öppnar en lite mindre försäljning i foajén vid insläpp till salongen. Biljettsläpp här online en vecka före visning\, d.v.s. söndag 27/8 kl 10.30. \nSommarens efterlängtade och sprudlande rosaskimmer! \nDenna live-actionfilm baseras på den populära Barbie-franchisen. Välkommen till Barbieland och allt det underbara! Eller? Vad händer om man krisar mitt i allt det perfekta? Följ med på ett oväntat och revolutionerande äventyr tillsammans med Barbie och Ken i denna fantasykomedi. \nBarbie och Ken spelas av Margot Robbie och Ryan Gosling och i övriga roller ser vi bland andra Emma Mackey\, Will Ferrell\, Ritu Arya\, Kate McKinnon och Michael Cera. \nRegissören Greta Gerwig (Lady Bird\, Unga kvinnor) säger: Den här filmen är för alla som älskar Barbie och alla som inte gör det. \nGreta Gerwig\, USA 2023\, 1 h 54 min\, 7 år \nHar visas torsdag 10 augusti kl 19.00 med extravisningar onsdag 16 augusti och torsdag 24 augusti kl 19.00. Visas nu som frukostbio söndag 3 september kl 10.30\, biljettsläpp för denna frukostbio är en vecka före filmstart (d.v.s. söndag 27/8 kl 10.30). \n
URL:https://tellusbio.nu/program/barbie/2023-09-03/
CATEGORIES:Aktuellt,Film
ATTACH;FMTTYPE=image/jpeg:https://tellusbio.nu/wp-content/uploads/2023/07/Barbie.jpg
END:VEVENT
BEGIN:VEVENT
DTSTART;TZID=Europe/Stockholm:20230903T150000
DTEND;TZID=Europe/Stockholm:20230903T150000
DTSTAMP:20260424T194323
CREATED:20230824T115637Z
LAST-MODIFIED:20230827T193949Z
UID:140889-1693753200-1693753200@tellusbio.nu
SUMMARY:Vem är du\, Mamma Mu?
DESCRIPTION:En rolig\, färgsprakande och varm\, ny långfilm om den populära och älskade Mamma Mu och Kråkan. En film om två väldigt olika vänner som utforskar och upplever livets stora mirakel tillsammans. \nChristian Ryltenius\, Sverige 2022\, 1 h 5 min\, barntillåten \nVisas söndag 3 september kl 15.00. \n
URL:https://tellusbio.nu/program/vem-ar-du-mamma-mu/
CATEGORIES:Aktuellt,Barnfilm,Barnvänligt,Film
ATTACH;FMTTYPE=image/jpeg:https://tellusbio.nu/wp-content/uploads/2023/08/Vem-ar-du-Mamma-Mu.jpg
END:VEVENT
BEGIN:VEVENT
DTSTART;TZID=Europe/Stockholm:20230903T170000
DTEND;TZID=Europe/Stockholm:20230903T170000
DTSTAMP:20260424T194323
CREATED:20230824T115349Z
LAST-MODIFIED:20230827T194445Z
UID:140883-1693760400-1693760400@tellusbio.nu
SUMMARY:and the king said\, what a FANTASTIC MACHINE
DESCRIPTION:Kameran kan dokumentera verkligheten eller förvränga den. Den kan ge oss utlopp för kreativitet\, fåfänga och bekräftelsebehov. Hur har vi valt att hantera denna makt? Och vad händer med världen när alla är upptagna av att fånga den på bild?\n\nI and the king said\, what a FANTASTIC MACHINE skildras hur människans besatthet av att filma och fotografera sin omvärld har förändrat vårt beteende. Från de första fotografierna på 1800-talet till den digitala flodvåg av innehåll som sköljer över oss i sociala medier – idag en algoritmstyrd miljardindustri. \nEn dokumentär som bör ses på bioduken! \nAxel Danielson och Maximilien Van Aertryck\, Sverige 2023\, 1 h 29 min\, 11 år \nVisas söndag 3 september kl 17.00 och onsdag 6 september kl 19.30. \n
URL:https://tellusbio.nu/program/and-the-king-said/2023-09-03/
CATEGORIES:Aktuellt,Film
ATTACH;FMTTYPE=image/jpeg:https://tellusbio.nu/wp-content/uploads/2023/08/and-the-king-said-what-a-FANTASTIC-MACHINE.jpg
END:VEVENT
BEGIN:VEVENT
DTSTART;TZID=Europe/Stockholm:20230903T193000
DTEND;TZID=Europe/Stockholm:20230903T193000
DTSTAMP:20260424T194323
CREATED:20230824T115505Z
LAST-MODIFIED:20230827T194801Z
UID:140886-1693769400-1693769400@tellusbio.nu
SUMMARY:Kärlek & avund
DESCRIPTION:Regissören Tomas (Franz Rogowski\, från bl.a. Den stora friheten och Undine) är lättirriterad och spänd under sista inspelningsdagen av sin nya film i Paris. På kvällens slutfest blir han på bättre humör när han möter Agathe (Adèle Exarchopoulos\, från bl.a. Blå är den varmaste färgen)\, som råkar befinna sig på samma bar som filmteamet. Nästa morgon kommer han hem till sin äkta make Martin (Ben Whishaw\, från bl.a. Women Talking och flera Bond-filmer) och berättar att han haft sex med en kvinna. Det blir början på ett triangeldrama bestående av lika delar passion\, avundsjuka och narcissism. \nIra Sachs\, Frankrike 2023\, 1 h 32 min\, barntillåten \nVisas söndag 3 september kl 19.30 och torsdag 7 september kl 19.30. \n
URL:https://tellusbio.nu/program/karlek-avund/2023-09-03/
CATEGORIES:Aktuellt,Film
ATTACH;FMTTYPE=image/jpeg:https://tellusbio.nu/wp-content/uploads/2023/08/Karlek-o-avund.jpg
END:VEVENT
END:VCALENDAR