BEGIN:VCALENDAR
VERSION:2.0
PRODID:-//Biocafé Tellus - ECPv4.9.12//NONSGML v1.0//EN
CALSCALE:GREGORIAN
METHOD:PUBLISH
X-WR-CALNAME:Biocafé Tellus
X-ORIGINAL-URL:https://tellusbio.nu
X-WR-CALDESC:Händelser för Biocafé Tellus
BEGIN:VTIMEZONE
TZID:Europe/Stockholm
BEGIN:DAYLIGHT
TZOFFSETFROM:+0100
TZOFFSETTO:+0200
TZNAME:CEST
DTSTART:20230326T010000
END:DAYLIGHT
BEGIN:STANDARD
TZOFFSETFROM:+0200
TZOFFSETTO:+0100
TZNAME:CET
DTSTART:20231029T010000
END:STANDARD
END:VTIMEZONE
BEGIN:VEVENT
DTSTART;TZID=Europe/Stockholm:20230907T193000
DTEND;TZID=Europe/Stockholm:20230907T193000
DTSTAMP:20260424T142700
CREATED:20230824T115505Z
LAST-MODIFIED:20230827T194801Z
UID:140888-1694115000-1694115000@tellusbio.nu
SUMMARY:Kärlek & avund
DESCRIPTION:Regissören Tomas (Franz Rogowski\, från bl.a. Den stora friheten och Undine) är lättirriterad och spänd under sista inspelningsdagen av sin nya film i Paris. På kvällens slutfest blir han på bättre humör när han möter Agathe (Adèle Exarchopoulos\, från bl.a. Blå är den varmaste färgen)\, som råkar befinna sig på samma bar som filmteamet. Nästa morgon kommer han hem till sin äkta make Martin (Ben Whishaw\, från bl.a. Women Talking och flera Bond-filmer) och berättar att han haft sex med en kvinna. Det blir början på ett triangeldrama bestående av lika delar passion\, avundsjuka och narcissism. \nIra Sachs\, Frankrike 2023\, 1 h 32 min\, barntillåten \nVisas söndag 3 september kl 19.30 och torsdag 7 september kl 19.30. \n
URL:https://tellusbio.nu/program/karlek-avund/2023-09-07/
CATEGORIES:Aktuellt,Film
ATTACH;FMTTYPE=image/jpeg:https://tellusbio.nu/wp-content/uploads/2023/08/Karlek-o-avund.jpg
END:VEVENT
END:VCALENDAR