BEGIN:VCALENDAR
VERSION:2.0
PRODID:-//Biocafé Tellus - ECPv4.9.12//NONSGML v1.0//EN
CALSCALE:GREGORIAN
METHOD:PUBLISH
X-WR-CALNAME:Biocafé Tellus
X-ORIGINAL-URL:https://tellusbio.nu
X-WR-CALDESC:Händelser för Biocafé Tellus
BEGIN:VTIMEZONE
TZID:Europe/Stockholm
BEGIN:DAYLIGHT
TZOFFSETFROM:+0100
TZOFFSETTO:+0200
TZNAME:CEST
DTSTART:20230326T010000
END:DAYLIGHT
BEGIN:STANDARD
TZOFFSETFROM:+0200
TZOFFSETTO:+0100
TZNAME:CET
DTSTART:20231029T010000
END:STANDARD
END:VTIMEZONE
BEGIN:VEVENT
DTSTART;TZID=Europe/Stockholm:20230910T150000
DTEND;TZID=Europe/Stockholm:20230910T150000
DTSTAMP:20260423T215216
CREATED:20230824T213125Z
LAST-MODIFIED:20230827T195808Z
UID:140922-1694358000-1694358000@tellusbio.nu
SUMMARY:De hungriga björnarna
DESCRIPTION:En av björnarna är stor och tjock och en är väldigt liten… Ned och Mishka är inte vilka björnar som helst. De flesta brunbjörnar tycker om att hålla sig för sig själva\, men de här två är goda vänner och bor tillsammans i ett mysigt hus mitt i skogen. Över allt annat på jorden älskar de mat\, som de gärna vill ha så mycket som möjligt av\, men helst med minsta möjliga ansträngning. Det går inte alltid som de tänkt sig\, men oftast slutar det med två mycket mätta och belåtna björnar. \nEfter Zbyněk Černíks böcker om Ned och Mishka – De hungriga björnarna. \nAlexandra Májova & Katerina Karhánková\, Tjeckien 2023\, 40 min\, barntillåten \nVisas söndag 10 september kl 15.00. \n
URL:https://tellusbio.nu/program/de-hungriga-bjornarna/
CATEGORIES:Aktuellt,Barnfilm,Film,Knattefilm
ATTACH;FMTTYPE=image/jpeg:https://tellusbio.nu/wp-content/uploads/2023/08/De-hungriga-bjornarna.jpg
END:VEVENT
BEGIN:VEVENT
DTSTART;TZID=Europe/Stockholm:20230910T170000
DTEND;TZID=Europe/Stockholm:20230910T170000
DTSTAMP:20260423T215216
CREATED:20230824T214415Z
LAST-MODIFIED:20230827T200227Z
UID:140926-1694365200-1694365200@tellusbio.nu
SUMMARY:Girl Picture
DESCRIPTION:Tjejer gör vad de har lust till – utan att fråga om lov! \nMimmi och Rönkkö är bästa vänner som stöttar varandra villkorslöst. De vill att livet ska vara ett stort äventyr fullt av passion och känslor. Emma har däremot vigt sitt liv åt konståkning  och hon ignorerar allt annat på sin väg mot framgången. När dessa tre helt olika tjejer möts\, börjar en kort men svindlande tidsperiod utan återvändo. Den första kärleken och utforskandet av känslor tar var och en av dem på en egen personlig resa. \nGirl Picture vann fyra priser under årets Jussigala (Finlands motsvarighet till Guldbaggegalan)\, bl.a. för bästa film och bästa manus. \nAlli Haapasalo\, Finland 2022\, 1 h 41 min\, barntillåten \nVisas söndag 10 september kl 17.00 och onsdag 13 september kl 19.30. \n
URL:https://tellusbio.nu/program/girl-picture/2023-09-10/
CATEGORIES:Aktuellt,Film
ATTACH;FMTTYPE=image/jpeg:https://tellusbio.nu/wp-content/uploads/2023/08/Girl-Picture.jpg
END:VEVENT
BEGIN:VEVENT
DTSTART;TZID=Europe/Stockholm:20230910T193000
DTEND;TZID=Europe/Stockholm:20230910T193000
DTSTAMP:20260423T215216
CREATED:20230826T091814Z
LAST-MODIFIED:20230830T142453Z
UID:141005-1694374200-1694374200@tellusbio.nu
SUMMARY:Min enastående mamma
DESCRIPTION:1970-talets Rom: en tid för stor social och kulturell förändring. Familjen Borghetti har precis flyttat in i ett av de nybyggda lägenhetshusen i staden. Trots de vackra vyerna av Rom\, från deras lägenhet på högsta våningen\, så har familjen glidit ifrån varandra. Föräldrarna Clara och Felice är inte kära i varandra längre men klarar inte av att lämna varandra. Clara finner tröst mot sin ensamhet i kärleken till sina tre barn. Det äldsta barnet\, Adriana\, har utnyttjat sin anonymitet i det nya området för att med flit presentera sig själv som pojke till grannarna\, vilket påskyndar familjerelationernas förfall. \nMed bl.a. Penélope Cruz och nominerad till Bästa film vid Venedigs filmfestival 2022. \nEmanuele Crialese\, Italien/Frankrike 2022\, 1 h 37 min\, 7 år \nVisas söndag 10 september och torsdag 14 september kl 19.30. \n
URL:https://tellusbio.nu/program/min-enastaende-mamma/2023-09-10/
CATEGORIES:Aktuellt,Film
ATTACH;FMTTYPE=image/jpeg:https://tellusbio.nu/wp-content/uploads/2023/08/Min-enastaende-mamma.jpg
END:VEVENT
END:VCALENDAR