BEGIN:VCALENDAR
VERSION:2.0
PRODID:-//Biocafé Tellus - ECPv4.9.12//NONSGML v1.0//EN
CALSCALE:GREGORIAN
METHOD:PUBLISH
X-WR-CALNAME:Biocafé Tellus
X-ORIGINAL-URL:https://tellusbio.nu
X-WR-CALDESC:Händelser för Biocafé Tellus
BEGIN:VTIMEZONE
TZID:Europe/Stockholm
BEGIN:DAYLIGHT
TZOFFSETFROM:+0100
TZOFFSETTO:+0200
TZNAME:CEST
DTSTART:20230326T010000
END:DAYLIGHT
BEGIN:STANDARD
TZOFFSETFROM:+0200
TZOFFSETTO:+0100
TZNAME:CET
DTSTART:20231029T010000
END:STANDARD
END:VTIMEZONE
BEGIN:VEVENT
DTSTART;TZID=Europe/Stockholm:20230917T150000
DTEND;TZID=Europe/Stockholm:20230917T150000
DTSTAMP:20260423T103545
CREATED:20230903T211914Z
LAST-MODIFIED:20230910T191857Z
UID:141211-1694962800-1694962800@tellusbio.nu
SUMMARY:Klara Ko och tågmysteriet
DESCRIPTION:På bondgården är Klara Ko och hennes vänner förtvivlade. Inget som de sått vill växa! Men som tur är får de besök av en vän till den geniale uppfinnargrisen Albert Einswein\, som berättar att Einswein uppfunnit ett nytt superfrö som kan växa utan vare sig vatten eller solljus. Detta kan innebära räddningen för bondgården\, men när alla är ombord på det hypermoderna tåget Metana blir superfröet stulet! Vem är den skyldige? Det är hög tid att Klara Ko kopplar in världens bästa detektiv – Agatha Christensen! \nAlla talar svenska i filmen! \nWill Ashurst\, Norge 2023\, 1 h 10 min\, barntillåten \nVisas söndag 17 september kl 15. \n
URL:https://tellusbio.nu/program/klara-ko-och-tagmysteriet/
CATEGORIES:Aktuellt,Barnfilm,Film
ATTACH;FMTTYPE=image/jpeg:https://tellusbio.nu/wp-content/uploads/2023/08/Klara-Ko-och-tagmysteriet.jpg
END:VEVENT
BEGIN:VEVENT
DTSTART;TZID=Europe/Stockholm:20230917T170000
DTEND;TZID=Europe/Stockholm:20230917T170000
DTSTAMP:20260423T103545
CREATED:20230903T212540Z
LAST-MODIFIED:20230910T190026Z
UID:141216-1694970000-1694970000@tellusbio.nu
SUMMARY:De ostyriga
DESCRIPTION:Köpenhamn bubblar av förändringens vindar när jazzmusiken sveper genom mellankrigstidens Europa. Maren\, äldsta dottern i ett fattigt hushåll\, insuper det nya med stor entusiasm\, men hennes ungdomliga trotsighet och livslust ses inte med blida ögon av omgivningen. Genom barnavårdsnämnden institutionaliseras hon på ön Sprogø\, där man samlat unga kvinnor som anklagats för lösdriveri eller sexuell omättlighet. Hon bildar snart ett oskiljaktigt band med Sørine\, och tillsammans börjar de göra uppror – med långtgående konsekvenser. \nEtt storslaget drama om ett av de mörkaste avsnitten av vår samtidshistoria. \nMalou Reymann\, Danmark 2023\,  2 h 15 min\, 11 år \nVisas söndag 17 september kl 17 och onsdag 20 september kl 19.30. \n
URL:https://tellusbio.nu/program/de-ostyriga/2023-09-17/
CATEGORIES:Aktuellt,Film
ATTACH;FMTTYPE=image/jpeg:https://tellusbio.nu/wp-content/uploads/2023/08/De-ostyriga.jpg
END:VEVENT
BEGIN:VEVENT
DTSTART;TZID=Europe/Stockholm:20230917T193000
DTEND;TZID=Europe/Stockholm:20230917T193000
DTSTAMP:20260423T103545
CREATED:20230903T212933Z
LAST-MODIFIED:20230910T190536Z
UID:141222-1694979000-1694979000@tellusbio.nu
SUMMARY:Mord i Venedig
DESCRIPTION:Mord i Venedig\, baserad på Agatha Christies rysare\, utspelar sig efter andra världskriget i kyliga Venedig. På självaste All helgona afton sker ett skrämmande mysterium\, där den berömda detektiven Hercule Poirot befinner sig. Numera pensionerad och i självpåtagen exil i världens mest berömda stad\, deltar Poirot motvilligt i en seans i ett förfallet\, hemsökt palats. När en av gästerna blir mördad\, kastas detektiven in i en ondskefull värld av skuggor och hemligheter. \nKenneth Branagh\, USA 2023\, 1 h 43 min\, ej granskad \nVisas söndag 17 september kl 19.30 och torsdag 21 september kl 19.30. \n
URL:https://tellusbio.nu/program/mord-i-venedig/2023-09-17/
CATEGORIES:Aktuellt,Film
ATTACH;FMTTYPE=image/jpeg:https://tellusbio.nu/wp-content/uploads/2023/08/Mord-i-Venedig.jpg
END:VEVENT
END:VCALENDAR