BEGIN:VCALENDAR
VERSION:2.0
PRODID:-//Biocafé Tellus - ECPv4.9.12//NONSGML v1.0//EN
CALSCALE:GREGORIAN
METHOD:PUBLISH
X-WR-CALNAME:Biocafé Tellus
X-ORIGINAL-URL:https://tellusbio.nu
X-WR-CALDESC:Händelser för Biocafé Tellus
BEGIN:VTIMEZONE
TZID:Europe/Stockholm
BEGIN:DAYLIGHT
TZOFFSETFROM:+0100
TZOFFSETTO:+0200
TZNAME:CEST
DTSTART:20230326T010000
END:DAYLIGHT
BEGIN:STANDARD
TZOFFSETFROM:+0200
TZOFFSETTO:+0100
TZNAME:CET
DTSTART:20231029T010000
END:STANDARD
END:VTIMEZONE
BEGIN:VEVENT
DTSTART;TZID=Europe/Stockholm:20230925T190000
DTEND;TZID=Europe/Stockholm:20230925T190000
DTSTAMP:20260422T222043
CREATED:20230910T213435Z
LAST-MODIFIED:20230917T215240Z
UID:141358-1695668400-1695668400@tellusbio.nu
SUMMARY:After Work
DESCRIPTION:Dokumentär av Erik Gandini om arbetets roll nu och i framtiden\, en lika tankeväckande som underhållande resa. Med bl.a. Noam Chomsky\, Elon Musk och Armando Pizzoni. \nEn stor del av de jobb som existerar idag kommer att försvinna inom kort. I takt med att teknologi överträffar mänsklig kapacitet har vi möjlighet att tänka om kring hur vi ser på arbetets roll i våra liv. Är vi redo för ett överskott av tid? För en arbetsfri existens? \nMed en berättelse som sveper över fyra kontinenter beskriver Erik Gandinis After Work vitt skilda livsöden där vissa knappt har ett liv utanför arbetet medan andra badar i fritid. Via dessa karaktärer och historier slungas vi in i det existentiella spänningsfältet mellan det som är och det som skulle kunna vara. \nErik Gandini\, Sverige 2023\, 1 h 21 min \nVisas måndag 25 september kl. 19.  \n
URL:https://tellusbio.nu/program/after-work/
CATEGORIES:Aktuellt,Film
ATTACH;FMTTYPE=image/jpeg:https://tellusbio.nu/wp-content/uploads/2023/09/After-Work.jpg
END:VEVENT
END:VCALENDAR