BEGIN:VCALENDAR
VERSION:2.0
PRODID:-//Biocafé Tellus - ECPv4.9.12//NONSGML v1.0//EN
CALSCALE:GREGORIAN
METHOD:PUBLISH
X-WR-CALNAME:Biocafé Tellus
X-ORIGINAL-URL:https://tellusbio.nu
X-WR-CALDESC:Händelser för Biocafé Tellus
BEGIN:VTIMEZONE
TZID:Europe/Stockholm
BEGIN:DAYLIGHT
TZOFFSETFROM:+0100
TZOFFSETTO:+0200
TZNAME:CEST
DTSTART:20230326T010000
END:DAYLIGHT
BEGIN:STANDARD
TZOFFSETFROM:+0200
TZOFFSETTO:+0100
TZNAME:CET
DTSTART:20231029T010000
END:STANDARD
END:VTIMEZONE
BEGIN:VEVENT
DTSTART;TZID=Europe/Stockholm:20230928T193000
DTEND;TZID=Europe/Stockholm:20230928T193000
DTSTAMP:20260422T180233
CREATED:20230910T212351Z
LAST-MODIFIED:20230917T214709Z
UID:141356-1695929400-1695929400@tellusbio.nu
SUMMARY:De ovälkomna
DESCRIPTION:Antoine och Olga\, ett franskt par\, har sedan en tid tillbaka har slagit sig till ro i en liten by på den galiciska landsbygden. Där lever de ett lugnt och stilla liv\, dagarna spenderas med att odla grönsaker och rusta upp övergivna hus. Deras samexistens med lokalbefolkningen är dessvärre inte lika idyllisk som de hade önskat. Parets motstånd till planerna att installera en vindkraftspark skapar friktion\, framförallt med syskonen Xan och Lorenzo\, som tar konflikten till nya nivåer\, utan återvändo. \nOscarsnominerade regissören Rodrigo Sorogoyen levererar ett spänningsfyllt drama som hade världspremiär i Official Selection på filmfestivalen i Cannes 2022. De ovälkomna är flerfaldigt prisbelönad och tog nyligen hem nio spanska Goya-priser – däribland bästa film\, bästa regi och bästa originalmanus. \nRodrigo Sorogoyen\, Spanien/Frankrike 2022\, 2 h 17 min \nVisas söndag 24 september kl 19.30 och torsdag 28 september kl 19.30. \n
URL:https://tellusbio.nu/program/de-ovalkomna/2023-09-28/
CATEGORIES:Aktuellt,Film
ATTACH;FMTTYPE=image/jpeg:https://tellusbio.nu/wp-content/uploads/2023/09/De-ovalkomna.jpeg
END:VEVENT
END:VCALENDAR