BEGIN:VCALENDAR
VERSION:2.0
PRODID:-//Biocafé Tellus - ECPv4.9.12//NONSGML v1.0//EN
CALSCALE:GREGORIAN
METHOD:PUBLISH
X-WR-CALNAME:Biocafé Tellus
X-ORIGINAL-URL:https://tellusbio.nu
X-WR-CALDESC:Händelser för Biocafé Tellus
BEGIN:VTIMEZONE
TZID:Europe/Stockholm
BEGIN:DAYLIGHT
TZOFFSETFROM:+0100
TZOFFSETTO:+0200
TZNAME:CEST
DTSTART:20230326T010000
END:DAYLIGHT
BEGIN:STANDARD
TZOFFSETFROM:+0200
TZOFFSETTO:+0100
TZNAME:CET
DTSTART:20231029T010000
END:STANDARD
END:VTIMEZONE
BEGIN:VEVENT
DTSTART;TZID=Europe/Stockholm:20231003T190000
DTEND;TZID=Europe/Stockholm:20231003T190000
DTSTAMP:20260422T101304
CREATED:20230924T212911Z
LAST-MODIFIED:20230924T212911Z
UID:141536-1696359600-1696359600@tellusbio.nu
SUMMARY:Pushing - Från Rättvik till Kalifornien
DESCRIPTION:Under ett sommarläger i Sverige 1984 uppfinner skateboardproffset Mike McGill världens då svåraste skateboardtrick – The McTwist. Det blir startskottet för en spektakulär ny era inom sporten. \n40 år senare väcks det förflutna till liv. 10-åriga Hedda drömmer om att en dag landa det legendariska tricket och hon tänker försöka på platsen där allting började\, i Rättvik. Pushing – från Rättvik till Kalifornien är en film om vänskap\, mod och hur en gemensam passion kan göra det omöjliga möjligt. \nChristopher Sanitate\, Klas Hjertberg\, Katja Uneborg & Robert Gustafsson\, Sverige 2023\, 1 h 22 min\, barntillåten \nVisas tisdag 3 oktober kl 19.00. \n
URL:https://tellusbio.nu/program/pushing-fran-rattvik-till-kalifornien/
CATEGORIES:Aktuellt,Film
ATTACH;FMTTYPE=image/jpeg:https://tellusbio.nu/wp-content/uploads/2023/09/Pushing.jpg
END:VEVENT
END:VCALENDAR