BEGIN:VCALENDAR
VERSION:2.0
PRODID:-//Biocafé Tellus - ECPv4.9.12//NONSGML v1.0//EN
CALSCALE:GREGORIAN
METHOD:PUBLISH
X-WR-CALNAME:Biocafé Tellus
X-ORIGINAL-URL:https://tellusbio.nu
X-WR-CALDESC:Händelser för Biocafé Tellus
BEGIN:VTIMEZONE
TZID:Europe/Stockholm
BEGIN:DAYLIGHT
TZOFFSETFROM:+0100
TZOFFSETTO:+0200
TZNAME:CEST
DTSTART:20230326T010000
END:DAYLIGHT
BEGIN:STANDARD
TZOFFSETFROM:+0200
TZOFFSETTO:+0100
TZNAME:CET
DTSTART:20231029T010000
END:STANDARD
END:VTIMEZONE
BEGIN:VEVENT
DTSTART;TZID=Europe/Stockholm:20231005T170000
DTEND;TZID=Europe/Stockholm:20231005T170000
DTSTAMP:20260422T132636
CREATED:20230910T210357Z
LAST-MODIFIED:20230928T144251Z
UID:141587-1696525200-1696525200@tellusbio.nu
SUMMARY:Extravisning: Past Lives
DESCRIPTION:Ni var många som såg Past Lives hos oss nu i veckan. Och vi tror att ni är ännu fler som vill se den. Därför har vi lagt in ytterligare ett visningstillfälle: torsdag 5/10 kl 17.00. Biljetterna till den visningen har just släppts till förköp\, se nedan. \nNora och Hae Sung var nära vänner som barn\, men tvingades skiljas åt när Noras familj emigrerade från Sydkorea. Ett tjugotal år senare återförenas de under en vecka i New York\, utan att veta vad det skulle kunna leda till. Nora är gift och tycks trivas med sitt liv\, men mötet med Hae Sung lockar fram tankar hos båda om alla val som formar livet\, och om ödets makt. \nHypade Past Lives är redan Oscartippad\, och anses vara en av de starkaste filmerna om kärlek som gjorts. \nCeline Song\, USA 2023\, 1 h 46 min\, 7 år \nVisas söndag 24 september kl 17\, onsdag 27 september kl 19.30 och torsdag 5 oktober kl 17.00 (extravisning!). \n
URL:https://tellusbio.nu/program/past-lives/2023-10-05/
CATEGORIES:Aktuellt,Film
ATTACH;FMTTYPE=image/jpeg:https://tellusbio.nu/wp-content/uploads/2023/09/Past-Lives.jpg
END:VEVENT
BEGIN:VEVENT
DTSTART;TZID=Europe/Stockholm:20231005T193000
DTEND;TZID=Europe/Stockholm:20231005T193000
DTSTAMP:20260422T132636
CREATED:20230923T234725Z
LAST-MODIFIED:20230923T235038Z
UID:141525-1696534200-1696534200@tellusbio.nu
SUMMARY:Hypermoon
DESCRIPTION:\nRegissören Mia får ett besked som sätter hennes framtid på spel. Ett barn filosoferar kring rymden och astronautens ensamma färd. Den åldrande gangstern Vincent gör ett överraskande fynd i sin källare. Genom dagboksliknande monologer\, knastriga telefonsamtal och grovkorniga filmklipp får vi följa med på en djupt personlig resa i filmskaparens liv. \nMia Engberg släpper återigen in oss i sitt personliga universum. Hypermoon är en poetisk dokumentär om minnen\, tidens gång och hur det är att vara människa. \n\nMia Engberg\, Sverige 2023\, 1 h 18 min\, ingen åldersgräns \nVisas söndag 1 oktober kl 19.30 och torsdag 5 oktober kl 19.30. \n
URL:https://tellusbio.nu/program/141523/2023-10-05/
CATEGORIES:Aktuellt,Film
ATTACH;FMTTYPE=image/png:https://tellusbio.nu/wp-content/uploads/2023/09/Hypermoon.png
END:VEVENT
END:VCALENDAR