BEGIN:VCALENDAR
VERSION:2.0
PRODID:-//Biocafé Tellus - ECPv4.9.12//NONSGML v1.0//EN
CALSCALE:GREGORIAN
METHOD:PUBLISH
X-WR-CALNAME:Biocafé Tellus
X-ORIGINAL-URL:https://tellusbio.nu
X-WR-CALDESC:Händelser för Biocafé Tellus
BEGIN:VTIMEZONE
TZID:Europe/Stockholm
BEGIN:DAYLIGHT
TZOFFSETFROM:+0100
TZOFFSETTO:+0200
TZNAME:CEST
DTSTART:20230326T010000
END:DAYLIGHT
BEGIN:STANDARD
TZOFFSETFROM:+0200
TZOFFSETTO:+0100
TZNAME:CET
DTSTART:20231029T010000
END:STANDARD
END:VTIMEZONE
BEGIN:VEVENT
DTSTART;TZID=Europe/Stockholm:20231007T190000
DTEND;TZID=Europe/Stockholm:20231007T190000
DTSTAMP:20260422T162921
CREATED:20230925T214603Z
LAST-MODIFIED:20230925T214949Z
UID:141539-1696705200-1696705200@tellusbio.nu
SUMMARY:Stop Making Sense
DESCRIPTION:För 40 år sen var rockpionjärerna Talking Heads det hetaste bandet i New York\, och därmed även hos musikkonnässörer världen över. Under tre decemberkvällar 1983 filmade den senare Oscarsbelönade regissören Jonathan Demme deras konserter till vad som skulle komma att bli filmen på allas läppar\, Stop Making Sense. \nFilmen har hyllats som en av de bästa konsertfilmerna i historien\, och i och med dess 40-årsjubileum är det dags för den att åter inta biograferna\, nyrestaurerad i 4K-format\, bättre än någonsin. \nJonathan Demme\, USA 1984\, 1 h 28 min\, ingen åldersgräns \nVisas lördag 7 oktober kl 19.00. \n
URL:https://tellusbio.nu/program/stop-making-sense/
CATEGORIES:Aktuellt,Film
ATTACH;FMTTYPE=image/jpeg:https://tellusbio.nu/wp-content/uploads/2023/09/Stop-Making-Sense.jpg
END:VEVENT
END:VCALENDAR