BEGIN:VCALENDAR
VERSION:2.0
PRODID:-//Biocafé Tellus - ECPv4.9.12//NONSGML v1.0//EN
CALSCALE:GREGORIAN
METHOD:PUBLISH
X-WR-CALNAME:Biocafé Tellus
X-ORIGINAL-URL:https://tellusbio.nu
X-WR-CALDESC:Händelser för Biocafé Tellus
BEGIN:VTIMEZONE
TZID:Europe/Stockholm
BEGIN:DAYLIGHT
TZOFFSETFROM:+0100
TZOFFSETTO:+0200
TZNAME:CEST
DTSTART:20230326T010000
END:DAYLIGHT
BEGIN:STANDARD
TZOFFSETFROM:+0200
TZOFFSETTO:+0100
TZNAME:CET
DTSTART:20231029T010000
END:STANDARD
END:VTIMEZONE
BEGIN:VEVENT
DTSTART;TZID=Europe/Stockholm:20231011T193000
DTEND;TZID=Europe/Stockholm:20231011T190000
DTSTAMP:20260422T234229
CREATED:20230929T082633Z
LAST-MODIFIED:20230929T082954Z
UID:141597-1697052600-1697050800@tellusbio.nu
SUMMARY:Joyland
DESCRIPTION:Familjen Rana är lycklig men går i väntans tider. Med bägge fötter stadigt i traditionerna längtar man efter att sönerna ska bli framgångsrika och att deras fruar ska föda söner som säkrar släktens framtid. Men det är inte alla i familjen som vill samma sak. Yngste sonen Haider skaffar i hemlighet jobb på en burlesk dansteater. Där blir Haider upp över öronen förälskad i Bibi\, en transkvinna som är showens fixstjärna. Deras omöjliga kärlekshistoria kastar sakta men säkert nytt ljus över hela familjen Ranas inre konflikter mellan traditioner och ett sexuellt uppror. \nJoyland är en varm kärleksfilm från långfilmsdebuterande regissören Saim Sadiq. På grund av sitt tema har den skapat viss kontrovers i hemlandet. Men publiken har tagit Joyland till sina hjärtan både i Pakistan på de många festivaler där den visats. Joyland har också fått tjugo internationella priser och blev shortlisted till Oscars i kategorin Bästa internationella film. \nSaim Sadiq\, Pakistan 2022\, 2 h 7 min\, 11 år \nVisas söndag 8 oktober kl 17.00 och onsdag 11 oktober kl 19.30. \n
URL:https://tellusbio.nu/program/joyland/2023-10-11/
CATEGORIES:Aktuellt,Film
ATTACH;FMTTYPE=image/jpeg:https://tellusbio.nu/wp-content/uploads/2023/09/Joyland.jpg
END:VEVENT
END:VCALENDAR