BEGIN:VCALENDAR
VERSION:2.0
PRODID:-//Biocafé Tellus - ECPv4.9.12//NONSGML v1.0//EN
CALSCALE:GREGORIAN
METHOD:PUBLISH
X-WR-CALNAME:Biocafé Tellus
X-ORIGINAL-URL:https://tellusbio.nu
X-WR-CALDESC:Händelser för Biocafé Tellus
BEGIN:VTIMEZONE
TZID:Europe/Stockholm
BEGIN:DAYLIGHT
TZOFFSETFROM:+0100
TZOFFSETTO:+0200
TZNAME:CEST
DTSTART:20230326T010000
END:DAYLIGHT
BEGIN:STANDARD
TZOFFSETFROM:+0200
TZOFFSETTO:+0100
TZNAME:CET
DTSTART:20231029T010000
END:STANDARD
END:VTIMEZONE
BEGIN:VEVENT
DTSTART;TZID=Europe/Stockholm:20231015T103000
DTEND;TZID=Europe/Stockholm:20231015T103000
DTSTAMP:20260423T060722
CREATED:20230923T095927Z
LAST-MODIFIED:20231012T185115Z
UID:141500-1697365800-1697365800@tellusbio.nu
SUMMARY:Frukostbio: Tillsammans (with English subtitles)
DESCRIPTION:Med devisen Hellre äta gröt tillsammans än oxfilé ensam öppnar vi upp för höstens andra frukostbio med Lukas Moodyssons Tillsammans från 2000. Filmen visas med engelsk undertext. \nFilmen startar kl 10.30 och innan dess serveras frukost i caféet från kl 9.30 för de som förköper den kombinerade film+frukost-biljetten. Dessa biljetter är begränsade till 25 i antal för att alla ska få plats i caféet. Resterande 75 biljetter går att köpa som vanliga biobiljetter och då är man välkommen kl 10.15 då vi öppnar dörrarna till salongen. Båda varianterna av biljetter släpps till försäljning online här på hemsidan söndag 24/9 kl 12.00. \nNu när Lukas Moodysson är aktuell med uppföljaren Tillsammans 99 som har premiär denna helg\, väljer vi att denna morgon erbjuda en återtitt på ursprungsfilmen Tillsammans från 2000. Två år tidigare hade Fucking Åmål gått upp på biograferna och förväntningarna var höga på denna nya film som nominerades till tre Guldbaggar och vann FIPRESCI-priset på Stockholms filmfestival med motiveringen: For its touching and humorous depiction of alternative lifestyles and our struggle to live together. \nÅret är 1975. I en villa bor kollektivet Tillsammans. Här möter vi den antiauktoritära ledaren Göran som ständigt medlar mellan stridiga viljor. Vi träffar Lena som är tillsammans med Göran och här är Lasse och Anna som tidigare varit ett par men som nu glidit isär sedan Anna gått terapi och förklarat sig vara lesbisk. Vi möter deras barn Tet och gröna vågen-idealisterna Signe och Sigvard med barnet Måne och här är Klas som är homosexuell och Erik som är militant kommunist. \nLukas Moodysson\, Sverige 2000\, 1.46 h\, engelsk undertext\, från 11 år (7 år i vuxens sällskap) \nVälkommen att se kollektivklassikern tillsammans denna oktobermorgon! Senare samma dag visar vi uppföljaren Tillsammans 99. \nVisas som frukostbio söndag 15 oktober kl 10.30. Biljettsläpp: söndag 24 september kl 12.00. \n
URL:https://tellusbio.nu/program/frukostbio-tillsammans/
CATEGORIES:Aktuellt,Film,Övriga aktiviteter
ATTACH;FMTTYPE=image/jpeg:https://tellusbio.nu/wp-content/uploads/2023/09/Tillsammans.jpg
END:VEVENT
BEGIN:VEVENT
DTSTART;TZID=Europe/Stockholm:20231015T150000
DTEND;TZID=Europe/Stockholm:20231015T150000
DTSTAMP:20260423T060722
CREATED:20231003T071857Z
LAST-MODIFIED:20231008T212234Z
UID:141628-1697382000-1697382000@tellusbio.nu
SUMMARY:Trolls 3
DESCRIPTION:Efter en tid med sann vänskap och obevekligt flirtande är nu Poppy och Kvist äntligen ett officiellt par. När de kommer varandra närmare\, upptäcker Poppy att Kvist har ett hemligt förflutet. Han var en gång med i hennes favoritpojkband\, fenomenet BroZone\, tillsammans med sina fyra bröder: Floyd\, John Dory\, Spruce och Clay. BroZone upplöstes när Kvist fortfarande var jätteliten\, och även familjen splittrades.\nKvist har inte sett sina bröder sedan dess. \nMen när Kvists bror Floyd kidnappas\, för sina musikaliska talanger\, av ett par skurkaktiga popstjärnor\, Velvet och Veneer\, ger sig Kvist och Poppy ut på en spännande och känslomässig resa för att återförena de andra bröderna och rädda Floyd från ett ännu värre öde än att bli en bortglömd popstjärna. \nWalt Dohrn & Tim Heitz\, USA 2023\, 1 h 31 min\, barntillåten \nVisas söndag 15 oktober kl 15.00. \n
URL:https://tellusbio.nu/program/trolls-3/
CATEGORIES:Aktuellt,Barnfilm,Film
ATTACH;FMTTYPE=image/jpeg:https://tellusbio.nu/wp-content/uploads/2023/10/Trolls-3.jpg
END:VEVENT
BEGIN:VEVENT
DTSTART;TZID=Europe/Stockholm:20231015T170000
DTEND;TZID=Europe/Stockholm:20231015T170000
DTSTAMP:20260423T060722
CREATED:20231003T072905Z
LAST-MODIFIED:20231017T074630Z
UID:141630-1697389200-1697389200@tellusbio.nu
SUMMARY:Tillsammans 99
DESCRIPTION:Biljetterna till denna film säljer så det står härliga till. Så vi har nu lagt in ytterligare en visningstid: torsdag 19/10 kl 17.00. Biljetter till den föreställningen går att köpa redan nu också här nedan! \n1975 var kollektivet Tillsammans en storfamilj. 24 år senare\, 1999\, har det förvandlats till världens minsta. Kvar finns bara Göran\, världens snällaste\, och Klasse\, som väver sina trasmattor. När Klasse i hemlighet bjuder in till Görans födelsedag\, återförenas alla för en kväll. Vad har hänt i deras liv sen sist? Har det gått bra eller dåligt för dem? Vem blev känd författare och vem hamnade på mentalsjukhus? Lever drömmarna från sjuttiotalet? Vem minns Peter? Äter Göran fortfarande gröt? \nTillsammans 99 är en film som vill beröra och rycka med biopubliken med sin humor\, glädje och även sorg. En komedi och en allvarlig berättelse om tidens gång och om hur det är att leva. \nLukas Moodysson\, Sverige 2023\, 1 h 55 min\, 7 år \nVisas söndag 15 oktober kl. 17\, onsdag 18 oktober kl 19.30 och torsdag 19/10 kl 17.00 (extravisning!). Inför extravisningen torsdag 19/10 öppnar caféet först kl 16.30 med kalla och varma drycker\, smörgåsar och hembakat fikabröd. \n
URL:https://tellusbio.nu/program/tillsammans-99/2023-10-15/
CATEGORIES:Aktuellt,Film
ATTACH;FMTTYPE=image/jpeg:https://tellusbio.nu/wp-content/uploads/2023/10/Tillsammans-99.jpeg
END:VEVENT
BEGIN:VEVENT
DTSTART;TZID=Europe/Stockholm:20231015T193000
DTEND;TZID=Europe/Stockholm:20231015T193000
DTSTAMP:20260423T060722
CREATED:20231003T074448Z
LAST-MODIFIED:20231008T211752Z
UID:141636-1697398200-1697398200@tellusbio.nu
SUMMARY:White Paradise
DESCRIPTION:Samuel är en änkling som i sitt sorgearbete tagit tillflykt till en isolerad stuga i de italienska alperna. En kväll får han oväntat besök. Chehreh är en kvinna från Afghanistan som vill ta sig över gränsen till Frankrike och där skapa sig ett nytt liv. Trots att han är skeptisk i början bestämmer sig Samuel för att hjälpa Chehreh. Det blir en strapatsrik färd genom bergen. Kampen står mot hårda väderförhållanden samt lokalbefolkningens kalla och våldsamma hjärtan. \nGuillaume Renusson\, Kanada 2022\, 1 h 33 min\, 15 år \nVisas söndag 15 oktober kl 19.30 och torsdag 19 oktober kl 19.30. \n
URL:https://tellusbio.nu/program/white-paradise/2023-10-15/
CATEGORIES:Aktuellt,Film
ATTACH;FMTTYPE=image/jpeg:https://tellusbio.nu/wp-content/uploads/2023/10/White-Paradise.jpg
END:VEVENT
END:VCALENDAR