BEGIN:VCALENDAR
VERSION:2.0
PRODID:-//Biocafé Tellus - ECPv4.9.12//NONSGML v1.0//EN
CALSCALE:GREGORIAN
METHOD:PUBLISH
X-WR-CALNAME:Biocafé Tellus
X-ORIGINAL-URL:https://tellusbio.nu
X-WR-CALDESC:Händelser för Biocafé Tellus
BEGIN:VTIMEZONE
TZID:Europe/Stockholm
BEGIN:DAYLIGHT
TZOFFSETFROM:+0100
TZOFFSETTO:+0200
TZNAME:CEST
DTSTART:20230326T010000
END:DAYLIGHT
BEGIN:STANDARD
TZOFFSETFROM:+0200
TZOFFSETTO:+0100
TZNAME:CET
DTSTART:20231029T010000
END:STANDARD
END:VTIMEZONE
BEGIN:VEVENT
DTSTART;TZID=Europe/Stockholm:20231024T183000
DTEND;TZID=Europe/Stockholm:20231024T203000
DTSTAMP:20260423T203907
CREATED:20230922T204338Z
LAST-MODIFIED:20231024T003649Z
UID:141478-1698172200-1698179400@tellusbio.nu
SUMMARY:Belarusisk filmkväll med regissörsbesök
DESCRIPTION:Belarusisk filmkväll med regissörsbesök \nEfter filmen följer ett samtal med regissören Maksim Shved\, modererat av journalisten och filmaren Lars Lovén. \nIntäkterna från kvällen går till politiska fångar i Belarus. \nFilmerna är textade till engelska \nI ”Square of Changes” (2023\, 20 min) följer vi den belarusiske fotografen Yauhen Attsetski som på heltid skildrade de dramatiska protesterna mot det riggade presidentvalet 2020 i Belarus\, innan han tvingades att fly för att sedan hamna i krigets Ukraina. Där fortsätter han att dokumentera de kollektiva ritualerna för att genomleva och bearbeta trauman. \nBerättelsen bygger på fotografier som Yauhen tog i Belarus och Ukraina\, bland annat för The New York Times räkning\, så väl som på filmat material från båda länderna. I centrum står händelserna kring ”Förändringarnas torg” – en unik plats som uppstod på en av Minsks gårdar och blev till en symbol för motståndet mot regimen. \nUnder kvällen visas också Shveds “Recalculating the route” (2020\, 53 min)\, där taxipassagerare passionerat diskuterar situationen i landet inför presidentvalet och de historiska protesterna i augusti 2020.  \nFotografen och journalisten Maksim Shved debuterade som regissör med dokumentären “Pure Art” på filmfestivalen i Krakow 2019 i Polen. Pure Art vann priset för bästa regissör på Artdocfest 2019 och bästa film på filmfestivalen Beast 2021. \nMaksim greps av polisen den 10 augusti 2020 medan han dokumenterade det belarusiska presidentvalet i sin roll som journalist för Current Time TV. Han misshandlades och torterades under gripandet. Han lämnade sedan landet och tvingas nu att leva i exil.  \nBåda filmerna är textade till engelska.\nAlla intäkter från biljettförsäljning går oavkortat till stöd för politiska fångar och deras anhöriga i Belarus. \nTis 24/10 kl 18:30-20:30 Entré: 100kr \nCaféet öppnar kl 16.00 med belarusisk bön- och svampsoppa med surdegsbröd för 70 kr. \nBiljetter till filmevenemanget finns på följande länk: https://www.eventbrite.se/e/belarusisk-filmkvall-med-regissorsbesok-maksim-shved-biljetter-727484243957?aff=oddtdtcreator \n \n
URL:https://tellusbio.nu/program/belarusisk-filmkvall-med-regissorsbesok/
CATEGORIES:Aktuellt,Film,Samtal
ATTACH;FMTTYPE=image/png:https://tellusbio.nu/wp-content/uploads/2023/09/C2E1B5D7-8C77-41DF-B106-B0918B2F17F9.png
END:VEVENT
END:VCALENDAR