BEGIN:VCALENDAR
VERSION:2.0
PRODID:-//Biocafé Tellus - ECPv4.9.12//NONSGML v1.0//EN
CALSCALE:GREGORIAN
METHOD:PUBLISH
X-WR-CALNAME:Biocafé Tellus
X-ORIGINAL-URL:https://tellusbio.nu
X-WR-CALDESC:Händelser för Biocafé Tellus
BEGIN:VTIMEZONE
TZID:Europe/Stockholm
BEGIN:DAYLIGHT
TZOFFSETFROM:+0100
TZOFFSETTO:+0200
TZNAME:CEST
DTSTART:20230326T010000
END:DAYLIGHT
BEGIN:STANDARD
TZOFFSETFROM:+0200
TZOFFSETTO:+0100
TZNAME:CET
DTSTART:20231029T010000
END:STANDARD
END:VTIMEZONE
BEGIN:VEVENT
DTSTART;TZID=Europe/Stockholm:20231025T193000
DTEND;TZID=Europe/Stockholm:20231025T193000
DTSTAMP:20260423T221622
CREATED:20231011T075318Z
LAST-MODIFIED:20231115T215730Z
UID:141718-1698262200-1698262200@tellusbio.nu
SUMMARY:På begäran: Höstlöv som faller
DESCRIPTION:Ni var många som såg Höstlöv som faller hos oss i oktober\, men vi har fått flera förfrågningar om vi ska visa den igen. Så nu har vi pusslat in ännu en visning i programmet\, håll tillgodo! Denna tisdag öppnar caféet som vanligt en timme före visningen\, men stänger sedan strax efter filmstart. \nNy film från den finländske stjärnregissören Aki Kaurismäki! \nTvå ensamma främlingar (Alma Pöysti och Jussi Vatanen) möts i natten på jakt efter livets första\, största och enda kärlek. Men mycket står i vägen för lyckan. Vardagens alla vanliga små och stora hinder förstärks av sådant som alkoholism\, borttappade telefonnummer och att inte ens veta varandras namn. \nVinnaren av Jurypriset i Cannes 2023 har beskrivits som en varm filt i en kall värld.  Prisbelönta Alma Pöysti  är sedan tidigare känd för den svenska publiken i och med sin medverkan i bl.a. tv-serien Händelser vid vatten och i filmen Tove där hon spelade just Tove Jansson.   \nAki Kaurismäki\, Finland 2022\, 1h 21 min\, 11 år \nObs. Vid visningen tisdag 7/11 håller caféet öppet från 17.30 men stänger sedan efter filmstart 18.30. \nVisas söndag 22 oktober kl 17.00\, onsdag 25 oktober kl 19.30 och tisdag 7 november kl 18.30 (på begäran!). \n
URL:https://tellusbio.nu/program/hostlov-som-faller/2023-10-25/
CATEGORIES:Aktuellt,Film
ATTACH;FMTTYPE=image/jpeg:https://tellusbio.nu/wp-content/uploads/2023/10/Hostlov-som-faller.jpg
END:VEVENT
END:VCALENDAR