BEGIN:VCALENDAR
VERSION:2.0
PRODID:-//Biocafé Tellus - ECPv4.9.12//NONSGML v1.0//EN
CALSCALE:GREGORIAN
METHOD:PUBLISH
X-WR-CALNAME:Biocafé Tellus
X-ORIGINAL-URL:https://tellusbio.nu
X-WR-CALDESC:Händelser för Biocafé Tellus
BEGIN:VTIMEZONE
TZID:Europe/Stockholm
BEGIN:DAYLIGHT
TZOFFSETFROM:+0100
TZOFFSETTO:+0200
TZNAME:CEST
DTSTART:20230326T010000
END:DAYLIGHT
BEGIN:STANDARD
TZOFFSETFROM:+0200
TZOFFSETTO:+0100
TZNAME:CET
DTSTART:20231029T010000
END:STANDARD
END:VTIMEZONE
BEGIN:VEVENT
DTSTART;TZID=Europe/Stockholm:20231026T193000
DTEND;TZID=Europe/Stockholm:20231026T193000
DTSTAMP:20260423T234356
CREATED:20231011T075549Z
LAST-MODIFIED:20231014T221828Z
UID:141720-1698348600-1698348600@tellusbio.nu
SUMMARY:In the Land of Saints and Sinners
DESCRIPTION:I en avlägsen irländsk by tvingas Finbar\, en nyligen pensionerad lönnmördare\, in i en dödlig katt-och-råtta-lek med en trio hämndlystna terrorister och ställs inför en livstid av synder. Men i helgonens och syndarnas land kan vissa synder inte begravas. \nIn the Land of Saints and Sinners av Oscarsnominerade Robert Lorenz (The Marksman) som återigen teamar ihop sig med Oscarsnominerade Liam Neeson och i övriga roller ser vi Oscarsnominerade Kerry Condon (The Banshees of Inisherin)\, Oscarsnominerade Ciarán Hinds (Belfast\, Tinker Tailor Soldier Spy) och Jack Gleeson (Game Of Thrones). \nRobert Lorentz\, Irland 2023\, 1 h 46 min\, 15 år \nVisas söndag 22 oktober kl 19.30 och torsdag 26 oktober kl 19.30. \n
URL:https://tellusbio.nu/program/in-the-land-of-saints-and-sinners/2023-10-26/
CATEGORIES:Aktuellt,Film
ATTACH;FMTTYPE=image/jpeg:https://tellusbio.nu/wp-content/uploads/2023/10/In-the-Land-of-Saints-and-Sinners.jpg
END:VEVENT
END:VCALENDAR