BEGIN:VCALENDAR
VERSION:2.0
PRODID:-//Biocafé Tellus - ECPv4.9.12//NONSGML v1.0//EN
CALSCALE:GREGORIAN
METHOD:PUBLISH
X-WR-CALNAME:Biocafé Tellus
X-ORIGINAL-URL:https://tellusbio.nu
X-WR-CALDESC:Händelser för Biocafé Tellus
BEGIN:VTIMEZONE
TZID:Europe/Stockholm
BEGIN:DAYLIGHT
TZOFFSETFROM:+0100
TZOFFSETTO:+0200
TZNAME:CEST
DTSTART:20230326T010000
END:DAYLIGHT
BEGIN:STANDARD
TZOFFSETFROM:+0200
TZOFFSETTO:+0100
TZNAME:CET
DTSTART:20231029T010000
END:STANDARD
END:VTIMEZONE
BEGIN:VEVENT
DTSTART;TZID=Europe/Stockholm:20231101T193000
DTEND;TZID=Europe/Stockholm:20231101T193000
DTSTAMP:20260424T070419
CREATED:20231011T080348Z
LAST-MODIFIED:20231022T141524Z
UID:141725-1698867000-1698867000@tellusbio.nu
SUMMARY:Paradiset brinner
DESCRIPTION:\nHjärtskärande\, vilt och vackert om en anarkistisk syskontrio. \n\n\n\nTre systrar står enade i en stökig men kärleksfull vardag utan föräldrar. Allt de behöver är varandra\, sina vänner och tidsfördriv som inbrott i obevakade poolvillor. Men när socialtjänsten anar oråd tvingas Laura söka hjälp utanför flockens trygghet.\nKlockan tickar och det blir allt tydligare att livet är på väg att förändras för alltid\, i en värld där frihet och förtvivlan ligger kind mot kind. \n\n\nMika Gustafsson\, Sverige 2023\, 1 h 49 min\,  \nVisas söndag 29 oktober kl 17.00 och onsdag 1 november kl 19.30. \n
URL:https://tellusbio.nu/program/paradiset-brinner/2023-11-01/
CATEGORIES:Aktuellt,Film
ATTACH;FMTTYPE=image/jpeg:https://tellusbio.nu/wp-content/uploads/2023/10/Paradiset-brinner.jpg
END:VEVENT
END:VCALENDAR