BEGIN:VCALENDAR
VERSION:2.0
PRODID:-//Biocafé Tellus - ECPv4.9.12//NONSGML v1.0//EN
CALSCALE:GREGORIAN
METHOD:PUBLISH
X-WR-CALNAME:Biocafé Tellus
X-ORIGINAL-URL:https://tellusbio.nu
X-WR-CALDESC:Händelser för Biocafé Tellus
BEGIN:VTIMEZONE
TZID:Europe/Stockholm
BEGIN:DAYLIGHT
TZOFFSETFROM:+0100
TZOFFSETTO:+0200
TZNAME:CEST
DTSTART:20230326T010000
END:DAYLIGHT
BEGIN:STANDARD
TZOFFSETFROM:+0200
TZOFFSETTO:+0100
TZNAME:CET
DTSTART:20231029T010000
END:STANDARD
END:VTIMEZONE
BEGIN:VEVENT
DTSTART;TZID=Europe/Stockholm:20231105T150000
DTEND;TZID=Europe/Stockholm:20231105T150000
DTSTAMP:20260424T132734
CREATED:20231025T225349Z
LAST-MODIFIED:20231029T220945Z
UID:141819-1699196400-1699196400@tellusbio.nu
SUMMARY:Paw Patrol: Storfilmen
DESCRIPTION:När en magisk meteor kraschlandar i Äventyrsstaden\, får PAW Patrol-valparna superkrafter\, och förvandlas till MÄKTIGA VALPAR! För Skye\, den minsta medlemmen i teamet\, är hennes nya krafter en dröm som blivit sann. Men allt förändras när valparnas ärkefiende borgmästaren Överdängare rymmer ur fängelset och slår sig ihop med en galen vetenskapsman för att stjäla superkrafterna. Äventyrsstadens öde står på spel. De mäktiga valparna måste stoppa superskurkarna innan det är för sent\, och Skye kommer att få lära sig att även en liten valp kan göra stor skillnad. \nCal Brunker\, Kanada 2023\, 1 h 28 min\, barntillåten \nVisas söndag 5 november kl 15.00. \n
URL:https://tellusbio.nu/program/paw-patrol-storfilmen/
CATEGORIES:Aktuellt,Barnfilm,Film
ATTACH;FMTTYPE=image/jpeg:https://tellusbio.nu/wp-content/uploads/2023/10/Paw-Patrol-Storfilmen.jpg
END:VEVENT
BEGIN:VEVENT
DTSTART;TZID=Europe/Stockholm:20231105T170000
DTEND;TZID=Europe/Stockholm:20231105T170000
DTSTAMP:20260424T132734
CREATED:20231025T225802Z
LAST-MODIFIED:20231029T221319Z
UID:141822-1699203600-1699203600@tellusbio.nu
SUMMARY:Miraklet i Gullspång
DESCRIPTION:En dramatisk dokumentär om familj\, hemligheter och vårt behov av att ha något att tro på. \nEtt tecken från Gud får två norska systrar att köpa en lägenhet i svenska Gullspång. När de möter lägenhetsägaren på mäklarkontoret är hon en kopia av deras döda storasyster\, som begick självmord 30 år tidigare. Vad som börjar som en sagolik familjeåterförening utvecklas till ett rafflande drama om lögner\, hemligheter och trons betydelse. \nMiraklet i Gullspång hade världspremiär på Tribeca filmfestival i New York i juni 2023 och har sedan visats på flera internationella filmfestivaler. \nMaria Fredriksson\, Sverige 2023\, 1 h 48 min\, barntillåten \nVisas söndag 5 november kl 17.00 och onsdag 8 november kl 19.30. \n
URL:https://tellusbio.nu/program/miraklet-i-gullspang/2023-11-05/
CATEGORIES:Aktuellt,Film
ATTACH;FMTTYPE=image/jpeg:https://tellusbio.nu/wp-content/uploads/2023/10/Miraklet-i-Gullspang.jpg
END:VEVENT
BEGIN:VEVENT
DTSTART;TZID=Europe/Stockholm:20231105T193000
DTEND;TZID=Europe/Stockholm:20231105T193000
DTSTAMP:20260424T132734
CREATED:20231025T230056Z
LAST-MODIFIED:20231029T221650Z
UID:141826-1699212600-1699212600@tellusbio.nu
SUMMARY:Joan Baez I Am A Noise
DESCRIPTION:Efter över 60 år i rampljuset närmar sig Joan Baez karriär slutet\, och hon blickar tillbaka på sitt långa liv som folkrockstjärna\, aktivist och ikon. Men hon reflekterar även över sina personliga och privata motgångar\, som alla format henne genom livet\, men som undgått omvärlden. \nJoan Baez I Am A Noise är en närgången dokumentär där Joan Baez själv dyker ner i sin livshistoria genom hemvideor\, dagböcker\, teckningar och ljudinspelningar. \nMiri Navasky\, Maeve O’Boyle & Karen O’Connor\, USA 2023\, 1 h 53 min \nVisas söndag 5 november kl 19.30 och torsdag 9 november kl 19.30. \n
URL:https://tellusbio.nu/program/joan-baez-i-am-a-noise/2023-11-05/
CATEGORIES:Aktuellt,Film,Musik
ATTACH;FMTTYPE=image/jpeg:https://tellusbio.nu/wp-content/uploads/2023/10/Joan-Baez.jpg
END:VEVENT
END:VCALENDAR