BEGIN:VCALENDAR
VERSION:2.0
PRODID:-//Biocafé Tellus - ECPv4.9.12//NONSGML v1.0//EN
CALSCALE:GREGORIAN
METHOD:PUBLISH
X-WR-CALNAME:Biocafé Tellus
X-ORIGINAL-URL:https://tellusbio.nu
X-WR-CALDESC:Händelser för Biocafé Tellus
BEGIN:VTIMEZONE
TZID:Europe/Stockholm
BEGIN:DAYLIGHT
TZOFFSETFROM:+0100
TZOFFSETTO:+0200
TZNAME:CEST
DTSTART:20230326T010000
END:DAYLIGHT
BEGIN:STANDARD
TZOFFSETFROM:+0200
TZOFFSETTO:+0100
TZNAME:CET
DTSTART:20231029T010000
END:STANDARD
END:VTIMEZONE
BEGIN:VEVENT
DTSTART;TZID=Europe/Stockholm:20231112T140000
DTEND;TZID=Europe/Stockholm:20231112T140000
DTSTAMP:20260424T222601
CREATED:20231025T231127Z
LAST-MODIFIED:20231104T230410Z
UID:141832-1699797600-1699797600@tellusbio.nu
SUMMARY:Kalles klätterträd\, Magister Flykt\, Herr Bohm och sillen och Farbrorn som inte vill va' stor
DESCRIPTION:Kalle har ett träd som han kallar sitt eget. Han ligger däruppe och drömmer och fantiserar om allt möjligt… och om Emma. Kalles klätterträd är en tecknad filmserie som visats i många länder. Ragnar jobbar på kontor. Han fyller 33 i maj\, och ju mer han tänker på det ju yngre vill han bli\, för han är faktiskt Farbrorn som inte vill va’ stor. ”Hur kommer det sig”\, tänker Herr Bohm\, ”att en sill inte kan leva på land? Kan det vara så att fiskar lever i vatten mest av gammal vana…?” Magister Flykt han tappar tråden\, det ska ni snart få se. Visst blir lite det rörigt ett tag men vad gör det …? \nFyra berättelser i ett filmpaket med svensk tecknad barnfilm när den är som allra bäst. \nOlof Landström & Peter Cohen\, Sverige 1975\, 45 min\, barntillåten \nVisas söndag 12 november kl 14.00. (Obs. tiden!) \n
URL:https://tellusbio.nu/program/kalles-klatkalles-klattertrad/
CATEGORIES:Aktuellt,Barnfilm,Barnvänligt,Film
ATTACH;FMTTYPE=image/jpeg:https://tellusbio.nu/wp-content/uploads/2023/10/Kalles-klattertrad.jpg
END:VEVENT
BEGIN:VEVENT
DTSTART;TZID=Europe/Stockholm:20231112T153000
DTEND;TZID=Europe/Stockholm:20231112T153000
DTSTAMP:20260424T222601
CREATED:20231026T082821Z
LAST-MODIFIED:20231104T234804Z
UID:141839-1699803000-1699803000@tellusbio.nu
SUMMARY:The Marvels
DESCRIPTION:Carol Danvers\, alias Captain Marvel\, har återtagit sin identitet från de brutala Kree och hämnats Supreme Intelligence. Men oväntade följder gör att Carol får axla oket av ett universum i obalans. När hennes plikter skickar henne till ett märkligt maskhål med koppling till en Kree-revolutionär blir hennes krafter sammankopplade med Kamala Khan\, ett superfan från Jersey City\, även kallad Ms Marvel\, och Carols bästa väns dotter kapten Monica Rambeau\, numera S.A.B.E.R-astronaut. Tillsammans måste denna osannolika trio samarbeta för att rädda universum\, som ”The Marvels”. \nNia DaCosta\, USA 2023\, 1 h 45 min\, 11 år \nVisas söndag 12 november kl 15.30 (obs: tiden!) och onsdag 15 november kl 19.30. \n
URL:https://tellusbio.nu/program/the-marvels/2023-11-12/
CATEGORIES:Aktuellt,Film
ATTACH;FMTTYPE=image/jpeg:https://tellusbio.nu/wp-content/uploads/2023/10/The-Marvels.jpg
END:VEVENT
BEGIN:VEVENT
DTSTART;TZID=Europe/Stockholm:20231112T180000
DTEND;TZID=Europe/Stockholm:20231112T180000
DTSTAMP:20260424T222601
CREATED:20231026T082102Z
LAST-MODIFIED:20231105T153220Z
UID:141835-1699812000-1699812000@tellusbio.nu
SUMMARY:Killers of the Flower Moon
DESCRIPTION:Killers of the Flower Moon baserad på David Granns hyllade bästsäljande bok\, utspelar sig i 1920-talets Oklahoma och skildrar seriemord på ursprungsbefolkningen i den oljerika Osage Nation\, en serie brutala brott som kom att kallas ”Reign of Terror”. \nMartin Scorsese\, USA 2023\, 3 h 26 min\, 15 år \nVisas söndag 12 november kl 18.00 och torsdag 16 november kl 18.00. (Obs: tiden!) \n
URL:https://tellusbio.nu/program/killers-of-the-flower-moon/2023-11-12/
CATEGORIES:Aktuellt,Film
ATTACH;FMTTYPE=image/jpeg:https://tellusbio.nu/wp-content/uploads/2023/10/Killers-of-the-Flower-Moon.jpg
END:VEVENT
END:VCALENDAR