BEGIN:VCALENDAR
VERSION:2.0
PRODID:-//Biocafé Tellus - ECPv4.9.12//NONSGML v1.0//EN
CALSCALE:GREGORIAN
METHOD:PUBLISH
X-WR-CALNAME:Biocafé Tellus
X-ORIGINAL-URL:https://tellusbio.nu
X-WR-CALDESC:Händelser för Biocafé Tellus
BEGIN:VTIMEZONE
TZID:Europe/Stockholm
BEGIN:DAYLIGHT
TZOFFSETFROM:+0100
TZOFFSETTO:+0200
TZNAME:CEST
DTSTART:20230326T010000
END:DAYLIGHT
BEGIN:STANDARD
TZOFFSETFROM:+0200
TZOFFSETTO:+0100
TZNAME:CET
DTSTART:20231029T010000
END:STANDARD
END:VTIMEZONE
BEGIN:VEVENT
DTSTART;TZID=Europe/Stockholm:20231115T193000
DTEND;TZID=Europe/Stockholm:20231115T193000
DTSTAMP:20260425T020404
CREATED:20231026T082821Z
LAST-MODIFIED:20231104T234804Z
UID:141842-1700076600-1700076600@tellusbio.nu
SUMMARY:The Marvels
DESCRIPTION:Carol Danvers\, alias Captain Marvel\, har återtagit sin identitet från de brutala Kree och hämnats Supreme Intelligence. Men oväntade följder gör att Carol får axla oket av ett universum i obalans. När hennes plikter skickar henne till ett märkligt maskhål med koppling till en Kree-revolutionär blir hennes krafter sammankopplade med Kamala Khan\, ett superfan från Jersey City\, även kallad Ms Marvel\, och Carols bästa väns dotter kapten Monica Rambeau\, numera S.A.B.E.R-astronaut. Tillsammans måste denna osannolika trio samarbeta för att rädda universum\, som ”The Marvels”. \nNia DaCosta\, USA 2023\, 1 h 45 min\, 11 år \nVisas söndag 12 november kl 15.30 (obs: tiden!) och onsdag 15 november kl 19.30. \n
URL:https://tellusbio.nu/program/the-marvels/2023-11-15/
CATEGORIES:Aktuellt,Film
ATTACH;FMTTYPE=image/jpeg:https://tellusbio.nu/wp-content/uploads/2023/10/The-Marvels.jpg
END:VEVENT
END:VCALENDAR