BEGIN:VCALENDAR
VERSION:2.0
PRODID:-//Biocafé Tellus - ECPv4.9.12//NONSGML v1.0//EN
CALSCALE:GREGORIAN
METHOD:PUBLISH
X-WR-CALNAME:Biocafé Tellus
X-ORIGINAL-URL:https://tellusbio.nu
X-WR-CALDESC:Händelser för Biocafé Tellus
BEGIN:VTIMEZONE
TZID:Europe/Stockholm
BEGIN:DAYLIGHT
TZOFFSETFROM:+0100
TZOFFSETTO:+0200
TZNAME:CEST
DTSTART:20230326T010000
END:DAYLIGHT
BEGIN:STANDARD
TZOFFSETFROM:+0200
TZOFFSETTO:+0100
TZNAME:CET
DTSTART:20231029T010000
END:STANDARD
END:VTIMEZONE
BEGIN:VEVENT
DTSTART;TZID=Europe/Stockholm:20231116T180000
DTEND;TZID=Europe/Stockholm:20231116T180000
DTSTAMP:20260425T031546
CREATED:20231026T082102Z
LAST-MODIFIED:20231105T153220Z
UID:141838-1700157600-1700157600@tellusbio.nu
SUMMARY:Killers of the Flower Moon
DESCRIPTION:Killers of the Flower Moon baserad på David Granns hyllade bästsäljande bok\, utspelar sig i 1920-talets Oklahoma och skildrar seriemord på ursprungsbefolkningen i den oljerika Osage Nation\, en serie brutala brott som kom att kallas ”Reign of Terror”. \nMartin Scorsese\, USA 2023\, 3 h 26 min\, 15 år \nVisas söndag 12 november kl 18.00 och torsdag 16 november kl 18.00. (Obs: tiden!) \n
URL:https://tellusbio.nu/program/killers-of-the-flower-moon/2023-11-16/
CATEGORIES:Aktuellt,Film
ATTACH;FMTTYPE=image/jpeg:https://tellusbio.nu/wp-content/uploads/2023/10/Killers-of-the-Flower-Moon.jpg
END:VEVENT
END:VCALENDAR