BEGIN:VCALENDAR
VERSION:2.0
PRODID:-//Biocafé Tellus - ECPv4.9.12//NONSGML v1.0//EN
CALSCALE:GREGORIAN
METHOD:PUBLISH
X-WR-CALNAME:Biocafé Tellus
X-ORIGINAL-URL:https://tellusbio.nu
X-WR-CALDESC:Händelser för Biocafé Tellus
BEGIN:VTIMEZONE
TZID:Europe/Stockholm
BEGIN:DAYLIGHT
TZOFFSETFROM:+0100
TZOFFSETTO:+0200
TZNAME:CEST
DTSTART:20230326T010000
END:DAYLIGHT
BEGIN:STANDARD
TZOFFSETFROM:+0200
TZOFFSETTO:+0100
TZNAME:CET
DTSTART:20231029T010000
END:STANDARD
END:VTIMEZONE
BEGIN:VEVENT
DTSTART;TZID=Europe/Stockholm:20231122T193000
DTEND;TZID=Europe/Stockholm:20231122T193000
DTSTAMP:20260425T121928
CREATED:20231027T095342Z
LAST-MODIFIED:20231112T195452Z
UID:141865-1700681400-1700681400@tellusbio.nu
SUMMARY:The Hunger Games: The Ballad of Songbirds & Snakes
DESCRIPTION:Vi får följa Coriolanus Snow vid 18 års ålder\, flera år innan han skulle bli Panems tyranniska president. Coriolanus är stilig och charmig\, och även om det är svåra tider för Snow-familjen\, ser han en chans till en förändring när han väljs till mentor för de 10:e hungerspelen. Snabbt krossas hans glädje när han får i uppdrag att vara mentor för en flicka från fattiga distrikt 12. \nFrancis Lawrence\, USA 2023\,  2 h 37\, min\, 15 år \nVisas söndag 19 november kl 17.00 och onsdag 22 november kl 19.30. \n
URL:https://tellusbio.nu/program/the-hunger-games-the-ballad/2023-11-22/
CATEGORIES:Aktuellt,Film
ATTACH;FMTTYPE=image/jpeg:https://tellusbio.nu/wp-content/uploads/2023/10/The-Hunger-Games.jpg
END:VEVENT
END:VCALENDAR