BEGIN:VCALENDAR
VERSION:2.0
PRODID:-//Biocafé Tellus - ECPv4.9.12//NONSGML v1.0//EN
CALSCALE:GREGORIAN
METHOD:PUBLISH
X-WR-CALNAME:Biocafé Tellus
X-ORIGINAL-URL:https://tellusbio.nu
X-WR-CALDESC:Händelser för Biocafé Tellus
BEGIN:VTIMEZONE
TZID:Europe/Stockholm
BEGIN:DAYLIGHT
TZOFFSETFROM:+0100
TZOFFSETTO:+0200
TZNAME:CEST
DTSTART:20230326T010000
END:DAYLIGHT
BEGIN:STANDARD
TZOFFSETFROM:+0200
TZOFFSETTO:+0100
TZNAME:CET
DTSTART:20231029T010000
END:STANDARD
END:VTIMEZONE
BEGIN:VEVENT
DTSTART;TZID=Europe/Stockholm:20231129T193000
DTEND;TZID=Europe/Stockholm:20231129T193000
DTSTAMP:20260425T230823
CREATED:20231027T103803Z
LAST-MODIFIED:20231112T140319Z
UID:141876-1701286200-1701286200@tellusbio.nu
SUMMARY:Somliga går med trasiga skor
DESCRIPTION:Snart fyrtio år efter sin död är Cornelis Vreeswijk fortfarande en av svensk musiks största ikoner. Den fattige invandrarkillen från Holland blev folkkär när han moderniserade den svenska visan i mitten på 60-talet. Samtidigt kämpade han hela sitt liv med missbruksproblem och ett stormigt privatliv som ofta hamnade på löpsedlarna. \nMed hjälp av nyupptäckt arkivmaterial tecknar denna dokumentär ett nära porträtt av en artist som in i det sista ville ge röst åt samhällets svaga och trasiga. Kanske för att han\, trots sina framgångar\, alltid var en av dem. \nMagnus Gertten\, Sverige 2023\, 1 h 45 min\, barntillåten \nVisas söndag 19 november kl 10.30 (som frukostbio)\, söndag 26 november kl 17.00 och onsdag 29 november kl 19.30. \n
URL:https://tellusbio.nu/program/somliga-gar-med-trasiga-skor/2023-11-29/
CATEGORIES:Aktuellt,Film,Musik
ATTACH;FMTTYPE=image/jpeg:https://tellusbio.nu/wp-content/uploads/2023/10/Somliga-gar-med-trasiga-skor.jpg
END:VEVENT
END:VCALENDAR