BEGIN:VCALENDAR
VERSION:2.0
PRODID:-//Biocafé Tellus - ECPv4.9.12//NONSGML v1.0//EN
CALSCALE:GREGORIAN
METHOD:PUBLISH
X-WR-CALNAME:Biocafé Tellus
X-ORIGINAL-URL:https://tellusbio.nu
X-WR-CALDESC:Händelser för Biocafé Tellus
BEGIN:VTIMEZONE
TZID:Europe/Stockholm
BEGIN:DAYLIGHT
TZOFFSETFROM:+0100
TZOFFSETTO:+0200
TZNAME:CEST
DTSTART:20230326T010000
END:DAYLIGHT
BEGIN:STANDARD
TZOFFSETFROM:+0200
TZOFFSETTO:+0100
TZNAME:CET
DTSTART:20231029T010000
END:STANDARD
END:VTIMEZONE
BEGIN:VEVENT
DTSTART;TZID=Europe/Stockholm:20231130T171500
DTEND;TZID=Europe/Stockholm:20231130T171500
DTSTAMP:20260426T005309
CREATED:20231106T112708Z
LAST-MODIFIED:20231211T161541Z
UID:142047-1701364500-1701364500@tellusbio.nu
SUMMARY:På begäran: Mutiny in Heaven – The Birthday Party
DESCRIPTION:I november visade vi Mutiny in Heaven: The Birthday Party för en nästintill fullsatt salong. Ni är många som frågat om den inte kommer att visas något mer. Och så uppstod plötsligt en möjlighet att visa den igen nu på lördag kl 19.30. Välkommen! \nMöt ett av undergroundmusikens mest inflytelserika band i filmen om postpunkarna The Birthday Party. Med Nick Cave i spetsen var de ett av de mest ökända och omtalade banden i Australien när de slog igenom i Melbournes nattliv i slutet av 70-talet. \nI Mutiny in Heaven: The Birthday Party berättar bandets medlemmar om dess förhållandevis korta men brinnande karriär och bjuder på privata filmsnuttar\, dynamiska animationssekvenser och exklusiva konsertklipp som aldrig tidigare visats. I intervjuer får vi höra berättelser om hur Nick Cave och hans skolkamrater skrämde publiken med konfronterande framträdanden\, primalskrik\, gotisk skräck och en anarkistisk livsstil. \nFörutom Nick Cave möter vi bland andra Phil Calvert och Mick Harvey i denna hyllade dokumentär signerad Ian White tillika en svettig\, elektrifierad och magisk filmupplevelse! \nVälkommen till första parkett framför en av rockhistoriens mest legendariska akter! \nIan White\, Australien 2023\, 1 h 38 min \nVisades torsdag 30 november kl 17.15 och nu visas den igen lördag 16 december kl 19.30. \n
URL:https://tellusbio.nu/program/mutiny-in-heaven-the-birthday-party/2023-11-30/
CATEGORIES:Aktuellt,Film,Musik
ATTACH;FMTTYPE=image/jpeg:https://tellusbio.nu/wp-content/uploads/2023/11/Mutiny-in-Heaven-The-Birthday-Party.jpg
END:VEVENT
BEGIN:VEVENT
DTSTART;TZID=Europe/Stockholm:20231130T193000
DTEND;TZID=Europe/Stockholm:20231130T193000
DTSTAMP:20260426T005309
CREATED:20231027T105011Z
LAST-MODIFIED:20231120T164142Z
UID:141880-1701372600-1701372600@tellusbio.nu
SUMMARY:Napoleon
DESCRIPTION:I Ridleys Scotts nya film får vi följa den franska kejsaren Napoleon Bonapartes (Joaquin Phoenix) snabba\, hänsynslösa klättring till makten genom hans komplicerade förhållande till sin stora kärlek\, hustrun Josephine. \nNapoleons  visionära militära och politiska taktik gestaltas med hjälp av några av de mest dynamiska stridssekvenserna som någonsin filmats. \nRidley Scott\, USA 2023\, 2 h 38 min\, 15 år\n\nVisas söndag 26 november kl 19.30 och torsdag 30 november kl 19.30. \n
URL:https://tellusbio.nu/program/napoleon/2023-11-30/
CATEGORIES:Aktuellt,Film
ATTACH;FMTTYPE=image/jpeg:https://tellusbio.nu/wp-content/uploads/2023/10/Napoleon.jpg
END:VEVENT
END:VCALENDAR