BEGIN:VCALENDAR
VERSION:2.0
PRODID:-//Biocafé Tellus - ECPv4.9.12//NONSGML v1.0//EN
CALSCALE:GREGORIAN
METHOD:PUBLISH
X-WR-CALNAME:Biocafé Tellus
X-ORIGINAL-URL:https://tellusbio.nu
X-WR-CALDESC:Händelser för Biocafé Tellus
BEGIN:VTIMEZONE
TZID:Europe/Stockholm
BEGIN:DAYLIGHT
TZOFFSETFROM:+0100
TZOFFSETTO:+0200
TZNAME:CEST
DTSTART:20230326T010000
END:DAYLIGHT
BEGIN:STANDARD
TZOFFSETFROM:+0200
TZOFFSETTO:+0100
TZNAME:CET
DTSTART:20231029T010000
END:STANDARD
END:VTIMEZONE
BEGIN:VEVENT
DTSTART;TZID=Europe/Stockholm:20231202T150000
DTEND;TZID=Europe/Stockholm:20231202T170000
DTSTAMP:20260426T033315
CREATED:20231115T002048Z
LAST-MODIFIED:20231125T145857Z
UID:142140-1701529200-1701536400@tellusbio.nu
SUMMARY:Film: The Society of the Spectacle med regissörsbesök
DESCRIPTION:Filmen The Society of the Spectacle bjuder in till ett samtal som utmanar vårt sätt att se på världen\, där vi får möjlighet att reflektera över vår egen tillvaro. Hur kan vi skapa verkligt engagemang? Kan vi ta oss ur passiviteten? Vad kan filosofen och filmmakaren Guy Debords text säga oss idag? \nVälkommen till en visning av The Society of the Spectacle med efterföljande samtal. \nMedverkande \nGöran Hugo Olsson – filmregissör och producent\nRoxy Farhat – konstnär och regissör \nProgram \n15.00 Filmvisning\n16.30 Samtal med regissörerna \nLör 2/12 kl 15:00-17:00 Entré 100kr \nCaféet öppnar kl 14:00 för fikaservering. \nSynopsis \n”Världen har redan filmats\, poängen nu är att förändra den”\n– Guy Debord \nKlimatet är på väg att haverera\, demokratin är på nedgång och klyftan mellan fattiga och rika ökar. Men varför är det inte fler som gör uppror? Vi lever i ett samhälle där representationen och framställning blivit viktigare än faktiska erfarenheter och verkligt engagemang. \nI The Society of the Spectacle har regissörerna Roxy Farhat och Göran Hugo Olsson tagit sig an uppgiften att skärskåda vår tids kultur. Filmen utgår från Guy Debords profetiska bok La Société du Spectacle från 1967. Tillsammans med en rad experter får vi följa med på en tankeväckande resa genom en digital labyrint av populärkulturella referenser och bortglömda pärlor från internets komposthög. Filmen blottlägger en samtid där våra liv blivit handelsvaror och konsumtion tycks vara den största religionen. Är vi fast i spektakel-samhällets grepp? \n \n
URL:https://tellusbio.nu/program/film-the-society-of-the-spectacle-med-regissorsbesok/
CATEGORIES:Aktuellt,Film
ATTACH;FMTTYPE=image/png:https://tellusbio.nu/wp-content/uploads/2023/11/53E441D1-D830-4CF5-89D0-486B80C973A6.png
END:VEVENT
END:VCALENDAR